BEGIN:VCALENDAR
VERSION:2.0
PRODID:-//Church Of God - ECPv6.15.13.1//NONSGML v1.0//EN
CALSCALE:GREGORIAN
METHOD:PUBLISH
X-WR-CALNAME:Church Of God
X-ORIGINAL-URL:https://churchofgod.org
X-WR-CALDESC:Events for Church Of God
REFRESH-INTERVAL;VALUE=DURATION:PT1H
X-Robots-Tag:noindex
X-PUBLISHED-TTL:PT1H
BEGIN:VTIMEZONE
TZID:America/New_York
BEGIN:DAYLIGHT
TZOFFSETFROM:-0500
TZOFFSETTO:-0400
TZNAME:EDT
DTSTART:20220313T070000
END:DAYLIGHT
BEGIN:STANDARD
TZOFFSETFROM:-0400
TZOFFSETTO:-0500
TZNAME:EST
DTSTART:20221106T060000
END:STANDARD
BEGIN:DAYLIGHT
TZOFFSETFROM:-0500
TZOFFSETTO:-0400
TZNAME:EDT
DTSTART:20230312T070000
END:DAYLIGHT
BEGIN:STANDARD
TZOFFSETFROM:-0400
TZOFFSETTO:-0500
TZNAME:EST
DTSTART:20231105T060000
END:STANDARD
BEGIN:DAYLIGHT
TZOFFSETFROM:-0500
TZOFFSETTO:-0400
TZNAME:EDT
DTSTART:20240310T070000
END:DAYLIGHT
BEGIN:STANDARD
TZOFFSETFROM:-0400
TZOFFSETTO:-0500
TZNAME:EST
DTSTART:20241103T060000
END:STANDARD
END:VTIMEZONE
BEGIN:VEVENT
DTSTART;TZID=America/New_York:20230525T080000
DTEND;TZID=America/New_York:20230526T170000
DTSTAMP:20260424T052355
CREATED:20230419T142850Z
LAST-MODIFIED:20230419T142850Z
UID:9977-1685001600-1685120400@churchofgod.org
SUMMARY:MTTM - European Spring Retreat Directors Meeting Vicenza\, Italy
DESCRIPTION:
URL:https://churchofgod.org/event/mttm-european-spring-retreat-directors-meeting-vicenza-italy/
END:VEVENT
END:VCALENDAR