BEGIN:VCALENDAR
VERSION:2.0
PRODID:-//Church Of God - ECPv6.15.13.1//NONSGML v1.0//EN
CALSCALE:GREGORIAN
METHOD:PUBLISH
X-WR-CALNAME:Church Of God
X-ORIGINAL-URL:https://churchofgod.org
X-WR-CALDESC:Events for Church Of God
REFRESH-INTERVAL;VALUE=DURATION:PT1H
X-Robots-Tag:noindex
X-PUBLISHED-TTL:PT1H
BEGIN:VTIMEZONE
TZID:America/New_York
BEGIN:DAYLIGHT
TZOFFSETFROM:-0500
TZOFFSETTO:-0400
TZNAME:EDT
DTSTART:20190310T070000
END:DAYLIGHT
BEGIN:STANDARD
TZOFFSETFROM:-0400
TZOFFSETTO:-0500
TZNAME:EST
DTSTART:20191103T060000
END:STANDARD
BEGIN:DAYLIGHT
TZOFFSETFROM:-0500
TZOFFSETTO:-0400
TZNAME:EDT
DTSTART:20200308T070000
END:DAYLIGHT
BEGIN:STANDARD
TZOFFSETFROM:-0400
TZOFFSETTO:-0500
TZNAME:EST
DTSTART:20201101T060000
END:STANDARD
BEGIN:DAYLIGHT
TZOFFSETFROM:-0500
TZOFFSETTO:-0400
TZNAME:EDT
DTSTART:20210314T070000
END:DAYLIGHT
BEGIN:STANDARD
TZOFFSETFROM:-0400
TZOFFSETTO:-0500
TZNAME:EST
DTSTART:20211107T060000
END:STANDARD
END:VTIMEZONE
BEGIN:VEVENT
DTSTART;VALUE=DATE:20200801
DTEND;VALUE=DATE:20200802
DTSTAMP:20260423T071415
CREATED:20200328T080318Z
LAST-MODIFIED:20200328T080318Z
UID:1441-1596240000-1596326399@churchofgod.org
SUMMARY:USAHEM HISPANIC BIBLE INSTITUTES STUDENTS’ RECOGNITIONS OR COMMENCEMENT EVENTS
DESCRIPTION:For additional information view www.churchofgod.org
URL:https://churchofgod.org/event/usahem-hispanic-bible-institutes-students-recognitions-or-commencement-events-2/
CATEGORIES:COG Events
END:VEVENT
BEGIN:VEVENT
DTSTART;VALUE=DATE:20200801
DTEND;VALUE=DATE:20200802
DTSTAMP:20260423T071415
CREATED:20200328T080428Z
LAST-MODIFIED:20200328T080428Z
UID:1445-1596240000-1596326399@churchofgod.org
SUMMARY:YD YWEA DEADLINE
DESCRIPTION:For additional information contact kblair@churchofgod.org
URL:https://churchofgod.org/event/yd-ywea-deadline/
CATEGORIES:COG Events
END:VEVENT
BEGIN:VEVENT
DTSTART;TZID=America/New_York:20200804T080000
DTEND;TZID=America/New_York:20200806T170000
DTSTAMP:20260423T071415
CREATED:20200328T080542Z
LAST-MODIFIED:20200328T080625Z
UID:1448-1596528000-1596733200@churchofgod.org
SUMMARY:EXCM INTERNATIONAL EXECUTIVE COMMITTEE MEETING\, CLEVELAND\, TN
DESCRIPTION:For additional information contact bsherlin@churchofgod.org
URL:https://churchofgod.org/event/excm-international-executive-committee-meeting-cleveland-tn-3/
CATEGORIES:COG Events
END:VEVENT
END:VCALENDAR