BEGIN:VCALENDAR
VERSION:2.0
PRODID:-//Church Of God - ECPv6.15.13.1//NONSGML v1.0//EN
CALSCALE:GREGORIAN
METHOD:PUBLISH
X-ORIGINAL-URL:https://churchofgod.org
X-WR-CALDESC:Events for Church Of God
REFRESH-INTERVAL;VALUE=DURATION:PT1H
X-Robots-Tag:noindex
X-PUBLISHED-TTL:PT1H
BEGIN:VTIMEZONE
TZID:America/New_York
BEGIN:DAYLIGHT
TZOFFSETFROM:-0500
TZOFFSETTO:-0400
TZNAME:EDT
DTSTART:20220313T070000
END:DAYLIGHT
BEGIN:STANDARD
TZOFFSETFROM:-0400
TZOFFSETTO:-0500
TZNAME:EST
DTSTART:20221106T060000
END:STANDARD
BEGIN:DAYLIGHT
TZOFFSETFROM:-0500
TZOFFSETTO:-0400
TZNAME:EDT
DTSTART:20230312T070000
END:DAYLIGHT
BEGIN:STANDARD
TZOFFSETFROM:-0400
TZOFFSETTO:-0500
TZNAME:EST
DTSTART:20231105T060000
END:STANDARD
BEGIN:DAYLIGHT
TZOFFSETFROM:-0500
TZOFFSETTO:-0400
TZNAME:EDT
DTSTART:20240310T070000
END:DAYLIGHT
BEGIN:STANDARD
TZOFFSETFROM:-0400
TZOFFSETTO:-0500
TZNAME:EST
DTSTART:20241103T060000
END:STANDARD
END:VTIMEZONE
BEGIN:VEVENT
DTSTART;TZID=America/New_York:20230703T080000
DTEND;TZID=America/New_York:20230703T170000
DTSTAMP:20260423T200105
CREATED:20221014T140816Z
LAST-MODIFIED:20221014T140816Z
UID:8808-1688371200-1688403600@churchofgod.org
SUMMARY:GEN - IO Closes @ 3:00 pm for Independence Day
DESCRIPTION:
URL:https://churchofgod.org/event/gen-io-closes-300-pm-for-independence-day/
END:VEVENT
BEGIN:VEVENT
DTSTART;TZID=America/New_York:20230704T080000
DTEND;TZID=America/New_York:20230704T170000
DTSTAMP:20260423T200105
CREATED:20221014T140904Z
LAST-MODIFIED:20221014T140904Z
UID:8810-1688457600-1688490000@churchofgod.org
SUMMARY:GEN - IO Closed for Independence Day
DESCRIPTION:
URL:https://churchofgod.org/event/gen-io-closed-for-independence-day-3/
END:VEVENT
BEGIN:VEVENT
DTSTART;TZID=America/New_York:20230711T080000
DTEND;TZID=America/New_York:20230713T170000
DTSTAMP:20260423T200105
CREATED:20221014T141025Z
LAST-MODIFIED:20221014T141025Z
UID:8812-1689062400-1689267600@churchofgod.org
SUMMARY:EXCM - International Executive Committee Meeting\, Cleveland\, TN
DESCRIPTION:Contact swhitmire@churchofgod.org for additional information.
URL:https://churchofgod.org/event/excm-international-executive-committee-meeting-cleveland-tn-31/
END:VEVENT
BEGIN:VEVENT
DTSTART;TZID=America/New_York:20230712T110000
DTEND;TZID=America/New_York:20230712T120000
DTSTAMP:20260423T200105
CREATED:20230419T144421Z
LAST-MODIFIED:20230419T144421Z
UID:9984-1689159600-1689163200@churchofgod.org
SUMMARY:EXCM - Chapel\, International Offices\, Cleveland\, TN
DESCRIPTION:
URL:https://churchofgod.org/event/excm-chapel-international-offices-cleveland-tn-2/
END:VEVENT
BEGIN:VEVENT
DTSTART;TZID=America/New_York:20230713T080000
DTEND;TZID=America/New_York:20230716T170000
DTSTAMP:20260423T200105
CREATED:20230419T144527Z
LAST-MODIFIED:20230419T144527Z
UID:9986-1689235200-1689526800@churchofgod.org
SUMMARY:IAM - 26th Annual North American Church of God (India) National Conference\, Duluth\, GA
DESCRIPTION:
URL:https://churchofgod.org/event/iam-26th-annual-north-american-church-of-god-india-national-conference-duluth-ga/
END:VEVENT
BEGIN:VEVENT
DTSTART;TZID=America/New_York:20230726T080000
DTEND;TZID=America/New_York:20230729T170000
DTSTAMP:20260423T200105
CREATED:20230419T144642Z
LAST-MODIFIED:20230710T133032Z
UID:9988-1690358400-1690650000@churchofgod.org
SUMMARY:IAM - International African Descent Conference\, North Cleveland Church of God\, Cleveland\, TN
DESCRIPTION:
URL:https://churchofgod.org/event/iam-international-african-descent-conference-victorious-living-church-of-god-conyers-ga/
END:VEVENT
BEGIN:VEVENT
DTSTART;TZID=America/New_York:20230731T080000
DTEND;TZID=America/New_York:20230804T170000
DTSTAMP:20260423T200105
CREATED:20221014T141126Z
LAST-MODIFIED:20221014T141126Z
UID:8814-1690790400-1691168400@churchofgod.org
SUMMARY:YD - International Teen Talent
DESCRIPTION:Visit www.cogyouth.org for additional information.
URL:https://churchofgod.org/event/yd-international-teen-talent-2/
END:VEVENT
END:VCALENDAR