BEGIN:VCALENDAR
VERSION:2.0
PRODID:-//Church Of God - ECPv6.15.13.1//NONSGML v1.0//EN
CALSCALE:GREGORIAN
METHOD:PUBLISH
X-ORIGINAL-URL:https://churchofgod.org
X-WR-CALDESC:Events for Church Of God
REFRESH-INTERVAL;VALUE=DURATION:PT1H
X-Robots-Tag:noindex
X-PUBLISHED-TTL:PT1H
BEGIN:VTIMEZONE
TZID:America/New_York
BEGIN:DAYLIGHT
TZOFFSETFROM:-0500
TZOFFSETTO:-0400
TZNAME:EDT
DTSTART:20230312T070000
END:DAYLIGHT
BEGIN:STANDARD
TZOFFSETFROM:-0400
TZOFFSETTO:-0500
TZNAME:EST
DTSTART:20231105T060000
END:STANDARD
BEGIN:DAYLIGHT
TZOFFSETFROM:-0500
TZOFFSETTO:-0400
TZNAME:EDT
DTSTART:20240310T070000
END:DAYLIGHT
BEGIN:STANDARD
TZOFFSETFROM:-0400
TZOFFSETTO:-0500
TZNAME:EST
DTSTART:20241103T060000
END:STANDARD
BEGIN:DAYLIGHT
TZOFFSETFROM:-0500
TZOFFSETTO:-0400
TZNAME:EDT
DTSTART:20250309T070000
END:DAYLIGHT
BEGIN:STANDARD
TZOFFSETFROM:-0400
TZOFFSETTO:-0500
TZNAME:EST
DTSTART:20251102T060000
END:STANDARD
END:VTIMEZONE
BEGIN:VEVENT
DTSTART;TZID=America/New_York:20241001T080000
DTEND;TZID=America/New_York:20241003T170000
DTSTAMP:20260421T121441
CREATED:20240422T145343Z
LAST-MODIFIED:20240422T145343Z
UID:11851-1727769600-1727974800@churchofgod.org
SUMMARY:EXCM - International Executive Committee Meeting\, Cleveland\, Tennessee
DESCRIPTION:
URL:https://churchofgod.org/event/excm-international-executive-committee-meeting-cleveland-tennessee-4/
END:VEVENT
BEGIN:VEVENT
DTSTART;TZID=America/New_York:20241003T080000
DTEND;TZID=America/New_York:20241003T170000
DTSTAMP:20260421T121441
CREATED:20240422T145451Z
LAST-MODIFIED:20240422T145451Z
UID:11853-1727942400-1727974800@churchofgod.org
SUMMARY:B&R - Health Insurance Open Enrollment\, DCB Chapel
DESCRIPTION:For additional information contact vabbott@churchofgod.org
URL:https://churchofgod.org/event/br-health-insurance-open-enrollment-dcb-chapel/
END:VEVENT
BEGIN:VEVENT
DTSTART;TZID=America/New_York:20241004T080000
DTEND;TZID=America/New_York:20241004T170000
DTSTAMP:20260421T121441
CREATED:20231009T191517Z
LAST-MODIFIED:20231009T191517Z
UID:11243-1728028800-1728061200@churchofgod.org
SUMMARY:YD - Youth Missions Golf Tournament\, Cleveland\, TN
DESCRIPTION:For additional information contact kclukey@churchofgod.org
URL:https://churchofgod.org/event/yd-youth-missions-golf-tournament-cleveland-tn-2/
END:VEVENT
BEGIN:VEVENT
DTSTART;TZID=America/New_York:20241017T080000
DTEND;TZID=America/New_York:20241018T170000
DTSTAMP:20260421T121441
CREATED:20240422T145605Z
LAST-MODIFIED:20240422T145605Z
UID:11855-1729152000-1729270800@churchofgod.org
SUMMARY:MTTM - European Fall Retreat Leaders Meting\, Garmisch\, Germany
DESCRIPTION:For additional information contact jscott@churchofgod.org
URL:https://churchofgod.org/event/mttm-european-fall-retreat-leaders-meting-garmisch-germany/
END:VEVENT
BEGIN:VEVENT
DTSTART;TZID=America/New_York:20241018T080000
DTEND;TZID=America/New_York:20241020T170000
DTSTAMP:20260421T121441
CREATED:20240422T145705Z
LAST-MODIFIED:20240422T145705Z
UID:11857-1729238400-1729443600@churchofgod.org
SUMMARY:MTTM - European Fall Retreat\, Garmisch\, Germany
DESCRIPTION:For additional information contact jscott@churchofgod.org
URL:https://churchofgod.org/event/mttm-european-fall-retreat-garmisch-germany-2/
END:VEVENT
BEGIN:VEVENT
DTSTART;TZID=America/New_York:20241022T080000
DTEND;TZID=America/New_York:20241022T170000
DTSTAMP:20260421T121441
CREATED:20240422T145745Z
LAST-MODIFIED:20240422T145745Z
UID:11859-1729584000-1729616400@churchofgod.org
SUMMARY:YD - International Youth Board Meeting
DESCRIPTION:
URL:https://churchofgod.org/event/yd-international-youth-board-meeting-3/
END:VEVENT
END:VCALENDAR