BEGIN:VCALENDAR
VERSION:2.0
PRODID:-//Church Of God - ECPv6.15.13.1//NONSGML v1.0//EN
CALSCALE:GREGORIAN
METHOD:PUBLISH
X-ORIGINAL-URL:https://churchofgod.org
X-WR-CALDESC:Events for Church Of God
REFRESH-INTERVAL;VALUE=DURATION:PT1H
X-Robots-Tag:noindex
X-PUBLISHED-TTL:PT1H
BEGIN:VTIMEZONE
TZID:America/New_York
BEGIN:DAYLIGHT
TZOFFSETFROM:-0500
TZOFFSETTO:-0400
TZNAME:EDT
DTSTART:20230312T070000
END:DAYLIGHT
BEGIN:STANDARD
TZOFFSETFROM:-0400
TZOFFSETTO:-0500
TZNAME:EST
DTSTART:20231105T060000
END:STANDARD
BEGIN:DAYLIGHT
TZOFFSETFROM:-0500
TZOFFSETTO:-0400
TZNAME:EDT
DTSTART:20240310T070000
END:DAYLIGHT
BEGIN:STANDARD
TZOFFSETFROM:-0400
TZOFFSETTO:-0500
TZNAME:EST
DTSTART:20241103T060000
END:STANDARD
BEGIN:DAYLIGHT
TZOFFSETFROM:-0500
TZOFFSETTO:-0400
TZNAME:EDT
DTSTART:20250309T070000
END:DAYLIGHT
BEGIN:STANDARD
TZOFFSETFROM:-0400
TZOFFSETTO:-0500
TZNAME:EST
DTSTART:20251102T060000
END:STANDARD
END:VTIMEZONE
BEGIN:VEVENT
DTSTART;TZID=America/New_York:20241101T080000
DTEND;TZID=America/New_York:20241101T170000
DTSTAMP:20260421T140122
CREATED:20230419T184432Z
LAST-MODIFIED:20240422T150657Z
UID:10161-1730448000-1730480400@churchofgod.org
SUMMARY:MTTM - TBD Regional USA WCC
DESCRIPTION:
URL:https://churchofgod.org/event/mttm-regional-usa-wcc-tbd/
END:VEVENT
BEGIN:VEVENT
DTSTART;TZID=America/New_York:20241101T080000
DTEND;TZID=America/New_York:20241101T170000
DTSTAMP:20260421T140122
CREATED:20240422T150750Z
LAST-MODIFIED:20240422T150750Z
UID:11864-1730448000-1730480400@churchofgod.org
SUMMARY:MTTM - TBD - Far East Fall Retreat
DESCRIPTION:For additional information contact jscott@churchofgod.org
URL:https://churchofgod.org/event/mttm-tbd-far-east-fall-retreat/
END:VEVENT
BEGIN:VEVENT
DTSTART;TZID=America/New_York:20241105T080000
DTEND;TZID=America/New_York:20241107T170000
DTSTAMP:20260421T140122
CREATED:20230419T184223Z
LAST-MODIFIED:20230419T184223Z
UID:10157-1730793600-1730998800@churchofgod.org
SUMMARY:EXCM - International Executive Committee Meeting\, Cleveland\, TN
DESCRIPTION:
URL:https://churchofgod.org/event/excm-international-executive-committee-meeting-cleveland-tn-46/
END:VEVENT
BEGIN:VEVENT
DTSTART;TZID=America/New_York:20241107T080000
DTEND;TZID=America/New_York:20241107T170000
DTSTAMP:20260421T140122
CREATED:20230419T184307Z
LAST-MODIFIED:20230419T184307Z
UID:10159-1730966400-1730998800@churchofgod.org
SUMMARY:EXCM - Administrative Ministries Council Meeting
DESCRIPTION:
URL:https://churchofgod.org/event/excm-administrative-ministries-council-meeting-8/
END:VEVENT
BEGIN:VEVENT
DTSTART;TZID=America/New_York:20241128T080000
DTEND;TZID=America/New_York:20241128T170000
DTSTAMP:20260421T140122
CREATED:20230419T184609Z
LAST-MODIFIED:20230830T202347Z
UID:10166-1732780800-1732813200@churchofgod.org
SUMMARY:GEN - IO Closed for Thanksgiving Holidays
DESCRIPTION:
URL:https://churchofgod.org/event/gen-io-closed-for-thanksgiving-holidays-2/
END:VEVENT
END:VCALENDAR