BEGIN:VCALENDAR
VERSION:2.0
PRODID:-//Church Of God - ECPv6.15.13.1//NONSGML v1.0//EN
CALSCALE:GREGORIAN
METHOD:PUBLISH
X-ORIGINAL-URL:https://churchofgod.org
X-WR-CALDESC:Events for Church Of God
REFRESH-INTERVAL;VALUE=DURATION:PT1H
X-Robots-Tag:noindex
X-PUBLISHED-TTL:PT1H
BEGIN:VTIMEZONE
TZID:America/New_York
BEGIN:DAYLIGHT
TZOFFSETFROM:-0500
TZOFFSETTO:-0400
TZNAME:EDT
DTSTART:20230312T070000
END:DAYLIGHT
BEGIN:STANDARD
TZOFFSETFROM:-0400
TZOFFSETTO:-0500
TZNAME:EST
DTSTART:20231105T060000
END:STANDARD
BEGIN:DAYLIGHT
TZOFFSETFROM:-0500
TZOFFSETTO:-0400
TZNAME:EDT
DTSTART:20240310T070000
END:DAYLIGHT
BEGIN:STANDARD
TZOFFSETFROM:-0400
TZOFFSETTO:-0500
TZNAME:EST
DTSTART:20241103T060000
END:STANDARD
BEGIN:DAYLIGHT
TZOFFSETFROM:-0500
TZOFFSETTO:-0400
TZNAME:EDT
DTSTART:20250309T070000
END:DAYLIGHT
BEGIN:STANDARD
TZOFFSETFROM:-0400
TZOFFSETTO:-0500
TZNAME:EST
DTSTART:20251102T060000
END:STANDARD
BEGIN:DAYLIGHT
TZOFFSETFROM:-0500
TZOFFSETTO:-0400
TZNAME:EDT
DTSTART:20260308T070000
END:DAYLIGHT
BEGIN:STANDARD
TZOFFSETFROM:-0400
TZOFFSETTO:-0500
TZNAME:EST
DTSTART:20261101T060000
END:STANDARD
END:VTIMEZONE
BEGIN:VEVENT
DTSTART;TZID=America/New_York:20241203T080000
DTEND;TZID=America/New_York:20241205T170000
DTSTAMP:20260421T135935
CREATED:20230419T184854Z
LAST-MODIFIED:20230419T184854Z
UID:10172-1733212800-1733418000@churchofgod.org
SUMMARY:EXCM - International Executive Committee Meeting\, Cleveland\, TN
DESCRIPTION:
URL:https://churchofgod.org/event/excm-international-executive-committee-meeting-cleveland-tn-47/
END:VEVENT
BEGIN:VEVENT
DTSTART;TZID=America/New_York:20241204T080000
DTEND;TZID=America/New_York:20241204T170000
DTSTAMP:20260421T135935
CREATED:20230419T184943Z
LAST-MODIFIED:20230419T185019Z
UID:10174-1733299200-1733331600@churchofgod.org
SUMMARY:EXCM - Christmas Cheer/Chapel\, International Offices\, Cleveland\, TN
DESCRIPTION:
URL:https://churchofgod.org/event/excm-chapel-christmas-cheer-international-offices-cleveland-tn/
END:VEVENT
BEGIN:VEVENT
DTSTART;TZID=America/New_York:20241207T080000
DTEND;TZID=America/New_York:20241207T170000
DTSTAMP:20260421T135935
CREATED:20230419T185127Z
LAST-MODIFIED:20230419T185127Z
UID:10177-1733558400-1733590800@churchofgod.org
SUMMARY:MTTM - European Leaders Christmas Luncheon TBD
DESCRIPTION:
URL:https://churchofgod.org/event/mttm-european-leaders-christmas-luncheon-tbd/
END:VEVENT
BEGIN:VEVENT
DTSTART;TZID=America/New_York:20241212T150000
DTEND;TZID=America/New_York:20241212T170000
DTSTAMP:20260421T135935
CREATED:20230419T185232Z
LAST-MODIFIED:20230830T202501Z
UID:10179-1734015600-1734022800@churchofgod.org
SUMMARY:GEN - IO Closes @ 3 pm for Christmas and New Year's Holidays
DESCRIPTION:
URL:https://churchofgod.org/event/gen-io-closes-3-pm-for-christmas-and-new-years-holidays/
END:VEVENT
BEGIN:VEVENT
DTSTART;TZID=America/New_York:20241216T080000
DTEND;TZID=America/New_York:20250101T170000
DTSTAMP:20260421T135935
CREATED:20230419T185325Z
LAST-MODIFIED:20230419T185325Z
UID:10181-1734336000-1735750800@churchofgod.org
SUMMARY:GEN - IO Closed for Christmas & New Year's Holidays
DESCRIPTION:
URL:https://churchofgod.org/event/gen-io-closed-for-christmas-new-years-holidays-2/
END:VEVENT
END:VCALENDAR